BEGIN:VCALENDAR
VERSION:2.0
PRODID:-//wp-events-plugin.com//5.993//EN
TZID:Asia/Tokyo
X-WR-TIMEZONE:Asia/Tokyo
BEGIN:VEVENT
UID:82@super-deluxe.com
DTSTART;TZID=Asia/Tokyo:20180629T193000
DTEND;TZID=Asia/Tokyo:20180629T223000
DTSTAMP:20180704T075145Z
URL:https://super-deluxe.com/events/%e3%80%8c%e3%83%81%e3%83%a3%e3%83%8d%e
 3%83%aa%e3%83%b3%e3%82%b0%e3%83%bb%e3%82%a6%e3%82%a3%e3%82%ba%e3%83%bb%e3%
 83%9f%e3%82%b9%e3%82%bf%e3%83%bc%e3%83%bb%e3%82%af%e3%83%aa%e3%83%a8%e3%82
 %a6%e3%82%b8/
SUMMARY:「チャネリング・ウィズ・ミスター・クリヨウジ
 」vol.2【DAY1】YOJI KURI's 90th Birthday Experimental Animation Show!!
DESCRIPTION:
ATTACH;FMTTYPE=image/jpeg:https://super-deluxe.com/venue/wp-content/upload
 s/180630-top.png
CATEGORIES:Art,Experimental,Knowledge,Talk
LOCATION:SuperDeluxe
X-APPLE-STRUCTURED-LOCATION;VALUE=URI;X-ADDRESS=西麻布3-1-25 B1F\, 港
 区\, 東京都\, 106-0031\, Japan;X-APPLE-RADIUS=100;X-TITLE=SuperDeluxe:
 geo:0,0
END:VEVENT
BEGIN:VTIMEZONE
TZID:Asia/Tokyo
X-LIC-LOCATION:Asia/Tokyo
BEGIN:STANDARD
DTSTART:20170629T193000
TZOFFSETFROM:+0900
TZOFFSETTO:+0900
TZNAME:JST
END:STANDARD
END:VTIMEZONE
END:VCALENDAR