BEGIN:VCALENDAR
VERSION:2.0
PRODID:-//wp-events-plugin.com//5.993//EN
TZID:Asia/Tokyo
X-WR-TIMEZONE:Asia/Tokyo
BEGIN:VEVENT
UID:68@super-deluxe.com
DTSTART;TZID=Asia/Tokyo:20180407T180000
DTEND;TZID=Asia/Tokyo:20180407T180000
DTSTAMP:20180223T103320Z
URL:https://super-deluxe.com/events/%e3%83%80%e3%82%a6%e3%83%b3%e3%83%92%e
 3%83%ab-music-is-music-presents/
SUMMARY:ダウンヒル ~music is music presents~
DESCRIPTION:前売：2500円（ドリンク別）\nadvance ticket: 2500円 
 (plus drink)
ATTACH;FMTTYPE=image/jpeg:https://super-deluxe.com/venue/wp-content/upload
 s/180407.png
CATEGORIES:Alternative
LOCATION:SuperDeluxe
X-APPLE-STRUCTURED-LOCATION;VALUE=URI;X-ADDRESS=西麻布3-1-25 B1F\, 港
 区\, 東京都\, 106-0031\, Japan;X-APPLE-RADIUS=100;X-TITLE=SuperDeluxe:
 geo:0,0
END:VEVENT
BEGIN:VTIMEZONE
TZID:Asia/Tokyo
X-LIC-LOCATION:Asia/Tokyo
BEGIN:STANDARD
DTSTART:20170407T180000
TZOFFSETFROM:+0900
TZOFFSETTO:+0900
TZNAME:JST
END:STANDARD
END:VTIMEZONE
END:VCALENDAR