BEGIN:VCALENDAR
VERSION:2.0
PRODID:-//wp-events-plugin.com//5.993//EN
TZID:Asia/Tokyo
X-WR-TIMEZONE:Asia/Tokyo
BEGIN:VEVENT
UID:40@super-deluxe.com
DTSTART;TZID=Asia/Tokyo:20180212T190000
DTEND;TZID=Asia/Tokyo:20180212T220000
DTSTAMP:20180116T113935Z
URL:https://super-deluxe.com/events/%e6%9d%b1%e4%ba%ac%e3%82%b6%e3%83%b4%e
 3%82%a3%e3%83%8c%e3%83%ab%e3%83%90%e3%83%83%e3%83%8fx%e6%9d%b1%e4%ba%ac%e5
 %a1%a9%e9%ba%b9/
SUMMARY:東京ザヴィヌルバッハ×東京塩麹
DESCRIPTION:
CATEGORIES:Experimental,Jazz,Minimal
LOCATION:SuperDeluxe
X-APPLE-STRUCTURED-LOCATION;VALUE=URI;X-ADDRESS=西麻布3-1-25 B1F\, 港
 区\, 東京都\, 106-0031\, Japan;X-APPLE-RADIUS=100;X-TITLE=SuperDeluxe:
 geo:0,0
END:VEVENT
BEGIN:VTIMEZONE
TZID:Asia/Tokyo
X-LIC-LOCATION:Asia/Tokyo
BEGIN:STANDARD
DTSTART:20170212T190000
TZOFFSETFROM:+0900
TZOFFSETTO:+0900
TZNAME:JST
END:STANDARD
END:VTIMEZONE
END:VCALENDAR