BEGIN:VCALENDAR
VERSION:2.0
PRODID:-//wp-events-plugin.com//5.993//EN
TZID:Asia/Tokyo
X-WR-TIMEZONE:Asia/Tokyo
BEGIN:VEVENT
UID:4225@super-deluxe.com
DTSTART;TZID=Asia/Tokyo:20181121T200000
DTEND;TZID=Asia/Tokyo:20181121T223000
DTSTAMP:20181004T195202Z
URL:https://super-deluxe.com/events/20181121/
SUMMARY:Realistic Monk with 尾島由郎＆柴野さつき
DESCRIPTION:[LIVE] ■ Realistic Monk (Carl Stone + Miki Yui) ■ Yoshio Oj
 ima & Satsuki Shibano [DJ] ■ 荒井優作 Yusaku Arai
CATEGORIES:Acoustic,Ambient,Electronic,Experimental,Japan,Minimal,来日
 演
LOCATION:SuperDeluxe
X-APPLE-STRUCTURED-LOCATION;VALUE=URI;X-ADDRESS=西麻布3-1-25 B1F\, 港
 区\, 東京都\, 106-0031\, Japan;X-APPLE-RADIUS=100;X-TITLE=SuperDeluxe:
 geo:0,0
END:VEVENT
BEGIN:VTIMEZONE
TZID:Asia/Tokyo
X-LIC-LOCATION:Asia/Tokyo
BEGIN:STANDARD
DTSTART:20171121T200000
TZOFFSETFROM:+0900
TZOFFSETTO:+0900
TZNAME:JST
END:STANDARD
END:VTIMEZONE
END:VCALENDAR