BEGIN:VCALENDAR
VERSION:2.0
PRODID:-//wp-events-plugin.com//5.993//EN
TZID:Asia/Tokyo
X-WR-TIMEZONE:Asia/Tokyo
BEGIN:VEVENT
UID:4226@super-deluxe.com
DTSTART;TZID=Asia/Tokyo:20181122T200000
DTEND;TZID=Asia/Tokyo:20181122T200000
DTSTAMP:20181114T171831Z
URL:https://super-deluxe.com/events/20181122/
SUMMARY:スーパー・デラックス エディション 1日目
DESCRIPTION:[LIVE] ■ Antibodies Collective ■ They Live (大蔵雅彦・
 宇波拓) ■ レイフ・エリグレン／クリス・コール／
 オーレン・アンバーチ leif elggren. crys cole. oren ambarchi. 
  前売3000円 / 三日間通し券 7500円（ドリンク別）Adv. ¥300
 0 (plus drink) / Three Day Pass ¥7500 (plus drinks)
ATTACH;FMTTYPE=image/jpeg:https://super-deluxe.com/venue/wp-content/upload
 s/181122-Leif.png
CATEGORIES:Acoustic,Ambient,Art,Electronic,Experimental,Japan,Performing
 Arts,Unpredictable,来日公演
LOCATION:SuperDeluxe
X-APPLE-STRUCTURED-LOCATION;VALUE=URI;X-ADDRESS=西麻布3-1-25 B1F\, 港
 区\, 東京都\, 106-0031\, Japan;X-APPLE-RADIUS=100;X-TITLE=SuperDeluxe:
 geo:0,0
END:VEVENT
BEGIN:VTIMEZONE
TZID:Asia/Tokyo
X-LIC-LOCATION:Asia/Tokyo
BEGIN:STANDARD
DTSTART:20171122T200000
TZOFFSETFROM:+0900
TZOFFSETTO:+0900
TZNAME:JST
END:STANDARD
END:VTIMEZONE
END:VCALENDAR