BEGIN:VCALENDAR
VERSION:2.0
PRODID:-//wp-events-plugin.com//5.993//EN
TZID:Asia/Tokyo
X-WR-TIMEZONE:Asia/Tokyo
BEGIN:VEVENT
UID:4223@super-deluxe.com
DTSTART;TZID=Asia/Tokyo:20181126T200000
DTEND;TZID=Asia/Tokyo:20181126T200000
DTSTAMP:20181125T114352Z
URL:https://super-deluxe.com/events/20181126/
SUMMARY:ONJQ - Otomo Yoshihide's New Jazz Quintet
DESCRIPTION:[LIVE] ■ OTOMO YOSHIHIDE'S NEW JAZZ QUINTET：大友良英 (g
 ) Otomo Yoshihide、類家心平 (tp) Ruike Shinpei、今込治 (tb) Imago
 me Osamu、水谷浩章 (b) Mizutani Hiroaki、芳垣安洋 (ds) Yoshigaki
  Yasuhiro 
ATTACH;FMTTYPE=image/jpeg:https://super-deluxe.com/venue/wp-content/upload
 s/ONJQ2018-HiguchiYuki-x1500.jpg
CATEGORIES:Japan,Jazz
LOCATION:SuperDeluxe
X-APPLE-STRUCTURED-LOCATION;VALUE=URI;X-ADDRESS=西麻布3-1-25 B1F\, 港
 区\, 東京都\, 106-0031\, Japan;X-APPLE-RADIUS=100;X-TITLE=SuperDeluxe:
 geo:0,0
END:VEVENT
BEGIN:VTIMEZONE
TZID:Asia/Tokyo
X-LIC-LOCATION:Asia/Tokyo
BEGIN:STANDARD
DTSTART:20171126T200000
TZOFFSETFROM:+0900
TZOFFSETTO:+0900
TZNAME:JST
END:STANDARD
END:VTIMEZONE
END:VCALENDAR