BEGIN:VCALENDAR
VERSION:2.0
PRODID:-//wp-events-plugin.com//5.993//EN
TZID:Asia/Tokyo
X-WR-TIMEZONE:Asia/Tokyo
BEGIN:VEVENT
UID:4269@super-deluxe.com
DTSTART;TZID=Asia/Tokyo:20181202T160000
DTEND;TZID=Asia/Tokyo:20181202T160000
DTSTAMP:20181130T172737Z
URL:https://super-deluxe.com/events/20181202/
SUMMARY:Space Echo Deluxe
DESCRIPTION:2004年〜2006年までSuperDeluxeで定期的に行われて
 いた伝説のSurround Eventが一夜限りの復活を果たします！
 The legendary SURROUND event series held regularly at SuperDeluxe between 
 2004 and 2006 returns for one night only!
CATEGORIES:Ambient,Electronic,Experimental,Japan,Knowledge,Lounge,Minimal,
 Unpredictable,World
LOCATION:SuperDeluxe
X-APPLE-STRUCTURED-LOCATION;VALUE=URI;X-ADDRESS=西麻布3-1-25 B1F\, 港
 区\, 東京都\, 106-0031\, Japan;X-APPLE-RADIUS=100;X-TITLE=SuperDeluxe:
 geo:0,0
END:VEVENT
BEGIN:VTIMEZONE
TZID:Asia/Tokyo
X-LIC-LOCATION:Asia/Tokyo
BEGIN:STANDARD
DTSTART:20171202T160000
TZOFFSETFROM:+0900
TZOFFSETTO:+0900
TZNAME:JST
END:STANDARD
END:VTIMEZONE
END:VCALENDAR