BEGIN:VCALENDAR
VERSION:2.0
PRODID:-//wp-events-plugin.com//5.993//EN
TZID:Asia/Tokyo
X-WR-TIMEZONE:Asia/Tokyo
BEGIN:VEVENT
UID:4258@super-deluxe.com
DTSTART;TZID=Asia/Tokyo:20181204T200000
DTEND;TZID=Asia/Tokyo:20181204T200000
DTSTAMP:20181101T060746Z
URL:https://super-deluxe.com/events/20181204/
SUMMARY:明星/Akeboshi　映画「鈴木家の嘘」公開＆サウンド
 トラック発売記念ライブ
DESCRIPTION:チケット発売＆予約受付開始【11月3日（土）10:
 00発売開始！】前売/Advance ¥3\,500 当日/Door ¥4\,000 (ド
 リンク別/plus drink)\n出演：明星/Akeboshi、川崎昭（mouse on 
 the keys）（Dr）、佐々木大輔（Tp）、酒井絵美（Vl）／ト
 ークゲスト    野尻克己（「鈴木家の嘘」監督）
LOCATION:SuperDeluxe
X-APPLE-STRUCTURED-LOCATION;VALUE=URI;X-ADDRESS=西麻布3-1-25 B1F\, 港
 区\, 東京都\, 106-0031\, Japan;X-APPLE-RADIUS=100;X-TITLE=SuperDeluxe:
 geo:0,0
END:VEVENT
BEGIN:VTIMEZONE
TZID:Asia/Tokyo
X-LIC-LOCATION:Asia/Tokyo
BEGIN:STANDARD
DTSTART:20171204T200000
TZOFFSETFROM:+0900
TZOFFSETTO:+0900
TZNAME:JST
END:STANDARD
END:VTIMEZONE
END:VCALENDAR