BEGIN:VCALENDAR
VERSION:2.0
PRODID:-//wp-events-plugin.com//5.993//EN
TZID:Asia/Tokyo
X-WR-TIMEZONE:Asia/Tokyo
BEGIN:VEVENT
UID:4271@super-deluxe.com
DTSTART;TZID=Asia/Tokyo:20181206T190000
DTEND;TZID=Asia/Tokyo:20181206T190000
DTSTAMP:20181126T161045Z
URL:https://super-deluxe.com/events/20181206/
SUMMARY:THX SDLX
DESCRIPTION:LIVE ◆ ケンセイクワイエットストームコッペ：
 ３クス・セッション ( kensei / dj quietstorm / coppé ) ◆ HATAKE
 N ◆ Cutsigh ◆ MIFUMA｜DJ ◆ KNS ◆ DJ HIDE ◆ tone.｜and SPECIAL 
 GUEST｜皆の心の故郷SuperDeluxeに感謝を込めて、未来へ向
 けたラスト・パーティーをphaseworksとmango+ sweetriceが合同
 で開催。
ATTACH;FMTTYPE=image/jpeg:https://super-deluxe.com/venue/wp-content/upload
 s/20181206-coppe-phase-THXSDLX.jpg
CATEGORIES:Alternative,Club,Dance,Electronic,Experimental,Japan,Jazz,Loung
 e,Pop,Unpredictable
LOCATION:SuperDeluxe
X-APPLE-STRUCTURED-LOCATION;VALUE=URI;X-ADDRESS=西麻布3-1-25 B1F\, 港
 区\, 東京都\, 106-0031\, Japan;X-APPLE-RADIUS=100;X-TITLE=SuperDeluxe:
 geo:0,0
END:VEVENT
BEGIN:VTIMEZONE
TZID:Asia/Tokyo
X-LIC-LOCATION:Asia/Tokyo
BEGIN:STANDARD
DTSTART:20171206T190000
TZOFFSETFROM:+0900
TZOFFSETTO:+0900
TZNAME:JST
END:STANDARD
END:VTIMEZONE
END:VCALENDAR