BEGIN:VCALENDAR
VERSION:2.0
PRODID:-//wp-events-plugin.com//5.993//EN
TZID:Asia/Tokyo
X-WR-TIMEZONE:Asia/Tokyo
BEGIN:VEVENT
UID:4290@super-deluxe.com
DTSTART;TZID=Asia/Tokyo:20190112T190000
DTEND;TZID=Asia/Tokyo:20190112T190000
DTSTAMP:20190110T063050Z
URL:https://super-deluxe.com/events/20190112/
SUMMARY:Enduring 50 Years of Jim O’Rourke DAY 2
DESCRIPTION:ニ日目【出演】ピーター・レーバーグ｜ジム・
 オルーク｜Chris SSG｜アンドモア！DAY TWO Live: Peter Rehberg |
  Jim O’Rourke | Chris SSG | and more!
CATEGORIES:Electronic,Experimental,Japan,Minimal,Noise,Unpredictable,来
 公演
LOCATION:SuperDeluxe
X-APPLE-STRUCTURED-LOCATION;VALUE=URI;X-ADDRESS=西麻布3-1-25 B1F\, 港
 区\, 東京都\, 106-0031\, Japan;X-APPLE-RADIUS=100;X-TITLE=SuperDeluxe:
 geo:0,0
END:VEVENT
BEGIN:VTIMEZONE
TZID:Asia/Tokyo
X-LIC-LOCATION:Asia/Tokyo
BEGIN:STANDARD
DTSTART:20180112T190000
TZOFFSETFROM:+0900
TZOFFSETTO:+0900
TZNAME:JST
END:STANDARD
END:VTIMEZONE
END:VCALENDAR