BEGIN:VCALENDAR
VERSION:2.0
PRODID:-//wp-events-plugin.com//5.993//EN
TZID:Asia/Tokyo
X-WR-TIMEZONE:Asia/Tokyo
BEGIN:VEVENT
UID:4279@super-deluxe.com
DTSTART;TZID=Asia/Tokyo:20190115T200000
DTEND;TZID=Asia/Tokyo:20190115T200000
DTSTAMP:20190114T140938Z
URL:https://super-deluxe.com/events/20190115/
SUMMARY:Super Hiatus!
DESCRIPTION:ライブ ■ 大友良英 × 秋山徹次 ■ L?K?O × キャ
 ル・ライアル × ジョー・タリア ■ キリヒト ／ VJ ■ 
 ロカペニス ／ DJ ■ 永田一直 ■ 37A  LIVE: Otomo Yoshihide x T
 etuzi Akiyama | L?K?O x Cal Lyall x Joe Talia | KIRIHITO | VJ: ROKAPENIS |
  DJ: Kazunao Nagata | 37A
ATTACH;FMTTYPE=image/jpeg:https://super-deluxe.com/venue/wp-content/upload
 s/190115-SuperHiatus.jpg
CATEGORIES:Alternative,Club,Electronic,Experimental,Japan,Noise,Rock,Unpre
 dictable,Video
LOCATION:SuperDeluxe
X-APPLE-STRUCTURED-LOCATION;VALUE=URI;X-ADDRESS=西麻布3-1-25 B1F\, 港
 区\, 東京都\, 106-0031\, Japan;X-APPLE-RADIUS=100;X-TITLE=SuperDeluxe:
 geo:0,0
END:VEVENT
BEGIN:VTIMEZONE
TZID:Asia/Tokyo
X-LIC-LOCATION:Asia/Tokyo
BEGIN:STANDARD
DTSTART:20180115T200000
TZOFFSETFROM:+0900
TZOFFSETTO:+0900
TZNAME:JST
END:STANDARD
END:VTIMEZONE
END:VCALENDAR