BEGIN:VCALENDAR
VERSION:2.0
PRODID:-//wp-events-plugin.com//5.993//EN
TZID:Asia/Tokyo
X-WR-TIMEZONE:Asia/Tokyo
BEGIN:VEVENT
UID:4294@super-deluxe.com
DTSTART;TZID=Asia/Tokyo:20191006T170000
DTEND;TZID=Asia/Tokyo:20191006T210000
DTSTAMP:20230715T061004Z
URL:https://super-deluxe.com/events/20191006/
SUMMARY:Schnellertollermeier / NRQ《in 渋谷 Shibuya》
DESCRIPTION:《SuperDeluxe presents》★ シュネラートラーマイヤ
 ー (スイス) ★ NRQ ★ マコ・クベック ★ VJ: onnacodomo ★ D
 Js: HAMADARAKA\, Dr. J’s Acid Bath ● Schnellertollermeier (from Switze
 rland) / NRQ / Mako Kubeck / VJ: onnacodomo / DJs: HAMADARAKA\, Dr. J’s 
 Acid Bath
ATTACH;FMTTYPE=image/jpeg:https://super-deluxe.com/venue/wp-content/upload
 s/STM-Willisau-DT.jpg
CATEGORIES:Alternative,Experimental,Improvisation,Japan,Jazz,Rock,Unpredic
 table,World,出張企画,来日公演
END:VEVENT
BEGIN:VTIMEZONE
TZID:Asia/Tokyo
X-LIC-LOCATION:Asia/Tokyo
BEGIN:STANDARD
DTSTART:20181006T170000
TZOFFSETFROM:+0900
TZOFFSETTO:+0900
TZNAME:JST
END:STANDARD
END:VTIMEZONE
END:VCALENDAR