BEGIN:VCALENDAR
VERSION:2.0
PRODID:-//wp-events-plugin.com//5.993//EN
TZID:Asia/Tokyo
X-WR-TIMEZONE:Asia/Tokyo
BEGIN:VEVENT
UID:4299@super-deluxe.com
DTSTART;TZID=Asia/Tokyo:20220925T180000
DTEND;TZID=Asia/Tokyo:20220925T190000
DTSTAMP:20220916T153435Z
URL:https://super-deluxe.com/events/20220925/
SUMMARY:Day 2：ジム・オルーク Jim O'Rourke
DESCRIPTION:前売/Advance: ¥3500 | 当日/Door: ¥4000\nジム・オル
 ーク 南房総初出演！\n【完売御礼】\nJim O'Rourke’s first p
 erformance in southern Chiba!\n!!! SOLD OUT !!!
ATTACH;FMTTYPE=image/jpeg:https://super-deluxe.com/venue/wp-content/upload
 s/jim2022-image.cx2500.jpg
CATEGORIES:Electroacoustic,Unpredictable
LOCATION:鴨川 SupernaturalDeluxe
X-APPLE-STRUCTURED-LOCATION;VALUE=URI;X-ADDRESS=西町1139\, 鴨川市\, 
 千葉県\, 296-0043\, Japan;X-APPLE-RADIUS=100;X-TITLE=鴨川 Supernatura
 lDeluxe:geo:0,0
END:VEVENT
BEGIN:VTIMEZONE
TZID:Asia/Tokyo
X-LIC-LOCATION:Asia/Tokyo
BEGIN:STANDARD
DTSTART:20210925T180000
TZOFFSETFROM:+0900
TZOFFSETTO:+0900
TZNAME:JST
END:STANDARD
END:VTIMEZONE
END:VCALENDAR