BEGIN:VCALENDAR
VERSION:2.0
PRODID:-//wp-events-plugin.com//5.993//EN
TZID:Asia/Tokyo
X-WR-TIMEZONE:Asia/Tokyo
BEGIN:VEVENT
UID:4309@super-deluxe.com
DTSTART;TZID=Asia/Tokyo:20230603T140000
DTEND;TZID=Asia/Tokyo:20230603T200000
DTSTAMP:20230602T093230Z
URL:https://super-deluxe.com/events/20230603/
SUMMARY:満月Super夜市
DESCRIPTION:【お知らせ】開催は6/4(日SUN)に変更となりまし
 た。\n入場無料 Free Entry\n開場 14:00 Open 〜 終了 20:00 Close\
 n主催 Presented by: Permaculture AWA\, Kosmic Market\, SuperDeluxe
ATTACH;FMTTYPE=image/jpeg:https://super-deluxe.com/venue/wp-content/upload
 s/Super2-0603-y2000.jpg
CATEGORIES:Art,Fashion,Food,Health,Market,Unpredictable
LOCATION:鴨川 SupernaturalDeluxe
X-APPLE-STRUCTURED-LOCATION;VALUE=URI;X-ADDRESS=西町1139\, 鴨川市\, 
 千葉県\, 296-0043\, Japan;X-APPLE-RADIUS=100;X-TITLE=鴨川 Supernatura
 lDeluxe:geo:0,0
END:VEVENT
BEGIN:VTIMEZONE
TZID:Asia/Tokyo
X-LIC-LOCATION:Asia/Tokyo
BEGIN:STANDARD
DTSTART:20220603T140000
TZOFFSETFROM:+0900
TZOFFSETTO:+0900
TZNAME:JST
END:STANDARD
END:VTIMEZONE
END:VCALENDAR