BEGIN:VCALENDAR
VERSION:2.0
PRODID:-//wp-events-plugin.com//5.993//EN
TZID:Asia/Tokyo
X-WR-TIMEZONE:Asia/Tokyo
BEGIN:VEVENT
UID:4312@super-deluxe.com
DTSTART;TZID=Asia/Tokyo:20230902T180000
DTEND;TZID=Asia/Tokyo:20230902T190000
DTSTAMP:20230815T090152Z
URL:https://super-deluxe.com/events/20230902/
SUMMARY:FUJI|||||||||||TA
DESCRIPTION:鴨川SupernaturalDeluxe 1st Anniversary Concert!\n国内外の
 美術館や音楽フェスティバルで注目を集めているFUJI||||
 |||||||TAのパイプオルガンとオーガニックなサウンドを
 ご堪能ください。\nFUJI|||||||||||TA | Solo performance / ソロ公
 演\nPA & Multi-channelled Soundscape: WHITELIGHT\nFood: 天然酵母の
 ピザ生地をフィルさんのアースオーブンで焼き上げた
 フワフワもちもちカリッカリッPizza&#x1f355\;\nJoin us for a c
 oncert of subtle beauty and deep\, rich tonality from a pioneering Japanes
 e sound artist.
ATTACH;FMTTYPE=image/jpeg:https://super-deluxe.com/venue/wp-content/upload
 s/sndx6-0902-flyer.jpg
CATEGORIES:Acoustic,Ambient,Experimental,Improvisation,Minimal,Unpredictab
 le,World
LOCATION:鴨川 SupernaturalDeluxe
X-APPLE-STRUCTURED-LOCATION;VALUE=URI;X-ADDRESS=西町1139\, 鴨川市\, 
 千葉県\, 296-0043\, Japan;X-APPLE-RADIUS=100;X-TITLE=鴨川 Supernatura
 lDeluxe:geo:0,0
END:VEVENT
BEGIN:VTIMEZONE
TZID:Asia/Tokyo
X-LIC-LOCATION:Asia/Tokyo
BEGIN:STANDARD
DTSTART:20220902T180000
TZOFFSETFROM:+0900
TZOFFSETTO:+0900
TZNAME:JST
END:STANDARD
END:VTIMEZONE
END:VCALENDAR