BEGIN:VCALENDAR
VERSION:2.0
PRODID:-//wp-events-plugin.com//5.993//EN
TZID:Asia/Tokyo
X-WR-TIMEZONE:Asia/Tokyo
BEGIN:VEVENT
UID:4332@super-deluxe.com
DTSTART;TZID=Asia/Tokyo:20241130T190000
DTEND;TZID=Asia/Tokyo:20241130T200000
DTSTAMP:20250106T135346Z
URL:https://super-deluxe.com/events/20241130/
SUMMARY:Silver Mouth《in 横浜 Yokohama》JOLT Arts
DESCRIPTION:青木涼子とジェイムス・ハリックが贈る、不気
 味でゴシックな2声とシンセの物語\n世界初演・YPAMフリ
 ンジ2024参加公演\nAn eerie gothic tale for 2 voices and synthesizers
  performed by dynamic vocalists Ryoko Aoki and James Hullick.\nWorld Premi
 er. A YPAM Fringe 2024 program
ATTACH;FMTTYPE=image/jpeg:https://super-deluxe.com/venue/wp-content/upload
 s/silvermouth-2024-image-x2500.jpg
CATEGORIES:Art,Electronic,Experimental,Japan,Performing
 Arts,Unpredictable,Video,出張企画,初演,来日公演
END:VEVENT
BEGIN:VTIMEZONE
TZID:Asia/Tokyo
X-LIC-LOCATION:Asia/Tokyo
BEGIN:STANDARD
DTSTART:20231201T190000
TZOFFSETFROM:+0900
TZOFFSETTO:+0900
TZNAME:JST
END:STANDARD
END:VTIMEZONE
END:VCALENDAR