BEGIN:VCALENDAR
VERSION:2.0
PRODID:-//wp-events-plugin.com//5.993//EN
TZID:Asia/Tokyo
X-WR-TIMEZONE:Asia/Tokyo
BEGIN:VEVENT
UID:4341@super-deluxe.com
DTSTART;TZID=Asia/Tokyo:20250406T103000
DTEND;TZID=Asia/Tokyo:20250406T150000
DTSTAMP:20250315T180135Z
URL:https://super-deluxe.com/events/20250406/
SUMMARY:映画『夢みる小学校』上映会
DESCRIPTION:こどもファーストの未来教育を描いたドキュメ
 ンタリー『夢見る小学校』鴨川市初上映！
ATTACH;FMTTYPE=image/jpeg:https://super-deluxe.com/venue/wp-content/upload
 s/yumemiru_omote.png
CATEGORIES:Education,Film,Food,Health,Japan,Knowledge
LOCATION:鴨川 SupernaturalDeluxe
X-APPLE-STRUCTURED-LOCATION;VALUE=URI;X-ADDRESS=西町1139\, 鴨川市\, 
 千葉県\, 296-0043\, Japan;X-APPLE-RADIUS=100;X-TITLE=鴨川 Supernatura
 lDeluxe:geo:0,0
END:VEVENT
BEGIN:VTIMEZONE
TZID:Asia/Tokyo
X-LIC-LOCATION:Asia/Tokyo
BEGIN:STANDARD
DTSTART:20240406T103000
TZOFFSETFROM:+0900
TZOFFSETTO:+0900
TZNAME:JST
END:STANDARD
END:VTIMEZONE
END:VCALENDAR