BEGIN:VCALENDAR
VERSION:2.0
PRODID:-//wp-events-plugin.com//5.993//EN
TZID:Asia/Tokyo
X-WR-TIMEZONE:Asia/Tokyo
BEGIN:VEVENT
UID:4350@super-deluxe.com
DTSTART;TZID=Asia/Tokyo:20251205T193000
DTEND;TZID=Asia/Tokyo:20251205T213000
DTSTAMP:20251204T084911Z
URL:https://super-deluxe.com/events/20251205/
SUMMARY:灰野敬二｜山本英《in 東京 Tokyo》Keiji Haino | Hana Yam
 amoto
DESCRIPTION:SOLITUDE ソロパフォーマンスシリーズ：灰野敬二
 ｜山本英\nat ゲーテ・インスティトゥート東京\nSolo perfo
 rmances  by experimental artists presented as a part of the project "Solit
 ude – Silence\, Self-Care and Creativity" at Goethe-Institut Tokyo
ATTACH;FMTTYPE=image/jpeg:https://super-deluxe.com/venue/wp-content/upload
 s/ig-p-1205-1l-haino-yamamoto.png
CATEGORIES:Acoustic,Alternative,Art,Classical,Experimental,Improvisation,J
 apan,Unpredictable,出張企画
END:VEVENT
BEGIN:VTIMEZONE
TZID:Asia/Tokyo
X-LIC-LOCATION:Asia/Tokyo
BEGIN:STANDARD
DTSTART:20241205T193000
TZOFFSETFROM:+0900
TZOFFSETTO:+0900
TZNAME:JST
END:STANDARD
END:VTIMEZONE
END:VCALENDAR