BEGIN:VCALENDAR
VERSION:2.0
PRODID:-//wp-events-plugin.com//5.993//EN
TZID:Asia/Tokyo
X-WR-TIMEZONE:Asia/Tokyo
BEGIN:VEVENT
UID:4351@super-deluxe.com
DTSTART;TZID=Asia/Tokyo:20251206T193000
DTEND;TZID=Asia/Tokyo:20251206T213000
DTSTAMP:20251204T084848Z
URL:https://super-deluxe.com/events/20251206/
SUMMARY:Phew｜工藤丈輝《in 東京 Tokyo》Phew | Taketeru Kudo
DESCRIPTION:SOLITUDE ソロパフォーマンスシリーズ：Phew｜工
 藤丈輝\nat ゲーテ・インスティトゥート東京\nSolo performa
 nces  by experimental artists presented as a part of the project "Solitude
  – Silence\, Self-Care and Creativity" at Goethe-Institut Tokyo
ATTACH;FMTTYPE=image/jpeg:https://super-deluxe.com/venue/wp-content/upload
 s/ig-p-1206-1l-phew-kudo.png
CATEGORIES:Alternative,Art,Dance,Electronic,Experimental,Improvisation,Jap
 an,Unpredictable,出張企画
END:VEVENT
BEGIN:VTIMEZONE
TZID:Asia/Tokyo
X-LIC-LOCATION:Asia/Tokyo
BEGIN:STANDARD
DTSTART:20241206T193000
TZOFFSETFROM:+0900
TZOFFSETTO:+0900
TZNAME:JST
END:STANDARD
END:VTIMEZONE
END:VCALENDAR