BEGIN:VCALENDAR
VERSION:2.0
PRODID:-//wp-events-plugin.com//5.993//EN
TZID:Asia/Tokyo
X-WR-TIMEZONE:Asia/Tokyo
BEGIN:VEVENT
UID:4352@super-deluxe.com
DTSTART;TZID=Asia/Tokyo:20251207T193000
DTEND;TZID=Asia/Tokyo:20251207T213000
DTSTAMP:20251204T084943Z
URL:https://super-deluxe.com/events/20251207/
SUMMARY:山本精一「スイミンショウ」《in 東京 Tokyo》Seiichi
  Yamamoto "Sleeping Show"
DESCRIPTION:SOLITUDE ソロパフォーマンスシリーズ：山本精一
 「スイミンショウ」完売 SOLD OUT!\nat ゲーテ・インステ
 ィトゥート東京\nSolo performances  by experimental artists presente
 d as a part of the project "Solitude – Silence\, Self-Care and Creativit
 y" at Goethe-Institut Tokyo
ATTACH;FMTTYPE=image/jpeg:https://super-deluxe.com/venue/wp-content/upload
 s/ig-p-1207-1l-seiichi.png
CATEGORIES:Alternative,Ambient,Art,Experimental,Improvisation,Japan,Unpred
 ictable,出張企画
END:VEVENT
BEGIN:VTIMEZONE
TZID:Asia/Tokyo
X-LIC-LOCATION:Asia/Tokyo
BEGIN:STANDARD
DTSTART:20241207T193000
TZOFFSETFROM:+0900
TZOFFSETTO:+0900
TZNAME:JST
END:STANDARD
END:VTIMEZONE
END:VCALENDAR