BEGIN:VCALENDAR
VERSION:2.0
PRODID:-//wp-events-plugin.com//5.993//EN
TZID:Asia/Tokyo
X-WR-TIMEZONE:Asia/Tokyo
BEGIN:VEVENT
UID:4353@super-deluxe.com
DTSTART;TZID=Asia/Tokyo:20260418T150000
DTEND;TZID=Asia/Tokyo:20260418T200000
DTSTAMP:20260326T132318Z
URL:https://super-deluxe.com/events/20260418/
SUMMARY:Super夜市
DESCRIPTION:入場無料 Free Entry\n開場 15:00 Open 〜 終了 20:00 Clo
 se\nおいしい、たのしい、じぶんらしい\n豊かな地球の
 マーケット\n主催 Presented by: Permaculture AWA\, Kosmic Market\, S
 uperDeluxe
ATTACH;FMTTYPE=image/jpeg:https://super-deluxe.com/venue/wp-content/upload
 s/2026-04-18-superyoichi-poster-A-2560.png
CATEGORIES:Acoustic,Art,Fashion,Food,Health,Japan,Market,Unpredictable
LOCATION:鴨川 SupernaturalDeluxe
X-APPLE-STRUCTURED-LOCATION;VALUE=URI;X-ADDRESS=西町1139\, 鴨川市\, 
 千葉県\, 296-0043\, Japan;X-APPLE-RADIUS=100;X-TITLE=鴨川 Supernatura
 lDeluxe:geo:0,0
END:VEVENT
BEGIN:VTIMEZONE
TZID:Asia/Tokyo
X-LIC-LOCATION:Asia/Tokyo
BEGIN:STANDARD
DTSTART:20250418T150000
TZOFFSETFROM:+0900
TZOFFSETTO:+0900
TZNAME:JST
END:STANDARD
END:VTIMEZONE
END:VCALENDAR