BEGIN:VCALENDAR
VERSION:2.0
PRODID:-//wp-events-plugin.com//5.993//EN
TZID:Asia/Tokyo
X-WR-TIMEZONE:Asia/Tokyo
BEGIN:VEVENT
UID:54@super-deluxe.com
DTSTART;TZID=Asia/Tokyo:20180113T183000
DTEND;TZID=Asia/Tokyo:20180113T183000
DTSTAMP:20180116T095100Z
URL:https://super-deluxe.com/events/dustin-wong-takako-minekawa-they-live-
 hair-stylistics-gaiamamoo/
SUMMARY:DUSTIN WONG & TAKAKO MINEKAWA / They Live / HAIR STYLISTICS / Gaiam
 amoo  Deep & Wide VOLUME ONE 三日目
DESCRIPTION:
ATTACH;FMTTYPE=image/jpeg:https://super-deluxe.com/venue/wp-content/upload
 s/180113-top.png
CATEGORIES:Experimental,Unpredictable
LOCATION:SuperDeluxe
X-APPLE-STRUCTURED-LOCATION;VALUE=URI;X-ADDRESS=西麻布3-1-25 B1F\, 港
 区\, 東京都\, 106-0031\, Japan;X-APPLE-RADIUS=100;X-TITLE=SuperDeluxe:
 geo:0,0
END:VEVENT
BEGIN:VTIMEZONE
TZID:Asia/Tokyo
X-LIC-LOCATION:Asia/Tokyo
BEGIN:STANDARD
DTSTART:20170113T183000
TZOFFSETFROM:+0900
TZOFFSETTO:+0900
TZNAME:JST
END:STANDARD
END:VTIMEZONE
END:VCALENDAR