BEGIN:VCALENDAR
VERSION:2.0
PRODID:-//wp-events-plugin.com//5.993//EN
TZID:Asia/Tokyo
X-WR-TIMEZONE:Asia/Tokyo
BEGIN:VEVENT
UID:92@super-deluxe.com
DTSTART;TZID=Asia/Tokyo:20180616T183000
DTEND;TZID=Asia/Tokyo:20180616T220000
DTSTAMP:20180704T100553Z
URL:https://super-deluxe.com/events/liveperformance-talkmonodukurixsoundxs
 tory/
SUMMARY:第21回文化庁メディア芸術祭 ライブパフォーマン
 ス／トーク：Monodukuri×Sound×Story
DESCRIPTION:料金 無料（申し込み制）\nPrice free (advance reserva
 tion required)
ATTACH;FMTTYPE=image/jpeg:https://super-deluxe.com/venue/wp-content/upload
 s/180623-top.png
CATEGORIES:Art,Club,Experimental,Knowledge,Performing
 Arts,Poetry,Theater,Unpredictable,Video
LOCATION:SuperDeluxe
X-APPLE-STRUCTURED-LOCATION;VALUE=URI;X-ADDRESS=西麻布3-1-25 B1F\, 港
 区\, 東京都\, 106-0031\, Japan;X-APPLE-RADIUS=100;X-TITLE=SuperDeluxe:
 geo:0,0
END:VEVENT
BEGIN:VTIMEZONE
TZID:Asia/Tokyo
X-LIC-LOCATION:Asia/Tokyo
BEGIN:STANDARD
DTSTART:20170616T183000
TZOFFSETFROM:+0900
TZOFFSETTO:+0900
TZNAME:JST
END:STANDARD
END:VTIMEZONE
END:VCALENDAR