BEGIN:VCALENDAR
VERSION:2.0
PRODID:-//wp-events-plugin.com//5.993//EN
TZID:Asia/Tokyo
X-WR-TIMEZONE:Asia/Tokyo
BEGIN:VEVENT
UID:91@super-deluxe.com
DTSTART;TZID=Asia/Tokyo:20180617T190000
DTEND;TZID=Asia/Tokyo:20180617T220000
DTSTAMP:20180704T100050Z
URL:https://super-deluxe.com/events/merzbow-x-mats-gustafsson-x-balazs-pan
 dii/
SUMMARY:SuperDeluxe presents 'Merzbow x Mats Gustafsson x Balázs Pándi｜
 Atsuo (Boris) Solo | Rokapenis (映像)'
DESCRIPTION:
ATTACH;FMTTYPE=image/jpeg:https://super-deluxe.com/venue/wp-content/upload
 s/180617-top.png
CATEGORIES:Experimental,Noise,来日公演
LOCATION:SuperDeluxe
X-APPLE-STRUCTURED-LOCATION;VALUE=URI;X-ADDRESS=西麻布3-1-25 B1F\, 港
 区\, 東京都\, 106-0031\, Japan;X-APPLE-RADIUS=100;X-TITLE=SuperDeluxe:
 geo:0,0
END:VEVENT
BEGIN:VTIMEZONE
TZID:Asia/Tokyo
X-LIC-LOCATION:Asia/Tokyo
BEGIN:STANDARD
DTSTART:20170617T190000
TZOFFSETFROM:+0900
TZOFFSETTO:+0900
TZNAME:JST
END:STANDARD
END:VTIMEZONE
END:VCALENDAR