BEGIN:VCALENDAR
VERSION:2.0
PRODID:-//wp-events-plugin.com//5.993//EN
TZID:Asia/Tokyo
X-WR-TIMEZONE:Asia/Tokyo
BEGIN:VEVENT
UID:37@super-deluxe.com
DTSTART;TZID=Asia/Tokyo:20180114T183000
DTEND;TZID=Asia/Tokyo:20180114T220000
DTSTAMP:20171220T042222Z
URL:https://super-deluxe.com/events/phew%e3%80%8cvoice-hardcore%e3%80%8d%e
 7%99%ba%e5%a3%b2%e8%a8%98%e5%bf%b5-%e3%83%9e%e3%83%ab%e3%83%81%e3%83%81%e3
 %83%a3%e3%83%8d%e3%83%ab%e3%82%b5%e3%83%a9%e3%82%a6%e3%83%b3%e3%83%89%e3%8
 3%af%e3%83%b3/
SUMMARY:Phew「Voice Hardcore」発売記念 マルチチャネルサラウ
 ンドワンマンライブ
DESCRIPTION:
CATEGORIES:Alternative,Experimental
LOCATION:SuperDeluxe
X-APPLE-STRUCTURED-LOCATION;VALUE=URI;X-ADDRESS=西麻布3-1-25 B1F\, 港
 区\, 東京都\, 106-0031\, Japan;X-APPLE-RADIUS=100;X-TITLE=SuperDeluxe:
 geo:0,0
END:VEVENT
BEGIN:VTIMEZONE
TZID:Asia/Tokyo
X-LIC-LOCATION:Asia/Tokyo
BEGIN:STANDARD
DTSTART:20170114T183000
TZOFFSETFROM:+0900
TZOFFSETTO:+0900
TZNAME:JST
END:STANDARD
END:VTIMEZONE
END:VCALENDAR