BEGIN:VCALENDAR
VERSION:2.0
PRODID:-//wp-events-plugin.com//5.993//EN
TZID:Asia/Tokyo
X-WR-TIMEZONE:Asia/Tokyo
BEGIN:VEVENT
UID:60@super-deluxe.com
DTSTART;TZID=Asia/Tokyo:20180412T200000
DTEND;TZID=Asia/Tokyo:20180412T200000
DTSTAMP:20180123T121753Z
URL:https://super-deluxe.com/events/superdeluxe-presents-demierre-dorner-k
 ocher-trio-shampoo-boy/
SUMMARY:SuperDeluxe presents Demierre Dörner Kocher TRIO / Shampoo Boy
DESCRIPTION:
ATTACH;FMTTYPE=image/jpeg:https://super-deluxe.com/venue/wp-content/upload
 s/180412-top.png
CATEGORIES:Acoustic,Electronic,Noise,Unpredictable,来日公演
LOCATION:SuperDeluxe
X-APPLE-STRUCTURED-LOCATION;VALUE=URI;X-ADDRESS=西麻布3-1-25 B1F\, 港
 区\, 東京都\, 106-0031\, Japan;X-APPLE-RADIUS=100;X-TITLE=SuperDeluxe:
 geo:0,0
END:VEVENT
BEGIN:VTIMEZONE
TZID:Asia/Tokyo
X-LIC-LOCATION:Asia/Tokyo
BEGIN:STANDARD
DTSTART:20170412T200000
TZOFFSETFROM:+0900
TZOFFSETTO:+0900
TZNAME:JST
END:STANDARD
END:VTIMEZONE
END:VCALENDAR